BEGIN:VCALENDAR
VERSION:2.0
PRODID:-//Lebanon Wilson County Chamber of Commerce - ECPv6.15.20//NONSGML v1.0//EN
CALSCALE:GREGORIAN
METHOD:PUBLISH
X-ORIGINAL-URL:https://lebanonwilsonchamber.com
X-WR-CALDESC:Events for Lebanon Wilson County Chamber of Commerce
REFRESH-INTERVAL;VALUE=DURATION:PT1H
X-Robots-Tag:noindex
X-PUBLISHED-TTL:PT1H
BEGIN:VTIMEZONE
TZID:America/Chicago
BEGIN:DAYLIGHT
TZOFFSETFROM:-0600
TZOFFSETTO:-0500
TZNAME:CDT
DTSTART:20250309T080000
END:DAYLIGHT
BEGIN:STANDARD
TZOFFSETFROM:-0500
TZOFFSETTO:-0600
TZNAME:CST
DTSTART:20251102T070000
END:STANDARD
BEGIN:DAYLIGHT
TZOFFSETFROM:-0600
TZOFFSETTO:-0500
TZNAME:CDT
DTSTART:20260308T080000
END:DAYLIGHT
BEGIN:STANDARD
TZOFFSETFROM:-0500
TZOFFSETTO:-0600
TZNAME:CST
DTSTART:20261101T070000
END:STANDARD
BEGIN:DAYLIGHT
TZOFFSETFROM:-0600
TZOFFSETTO:-0500
TZNAME:CDT
DTSTART:20270314T080000
END:DAYLIGHT
BEGIN:STANDARD
TZOFFSETFROM:-0500
TZOFFSETTO:-0600
TZNAME:CST
DTSTART:20271107T070000
END:STANDARD
BEGIN:DAYLIGHT
TZOFFSETFROM:-0600
TZOFFSETTO:-0500
TZNAME:CDT
DTSTART:20280312T080000
END:DAYLIGHT
BEGIN:STANDARD
TZOFFSETFROM:-0500
TZOFFSETTO:-0600
TZNAME:CST
DTSTART:20281105T070000
END:STANDARD
BEGIN:DAYLIGHT
TZOFFSETFROM:-0600
TZOFFSETTO:-0500
TZNAME:CDT
DTSTART:20290311T080000
END:DAYLIGHT
BEGIN:STANDARD
TZOFFSETFROM:-0500
TZOFFSETTO:-0600
TZNAME:CST
DTSTART:20291104T070000
END:STANDARD
END:VTIMEZONE
BEGIN:VEVENT
DTSTART;TZID=America/Chicago:20260930T110000
DTEND;TZID=America/Chicago:20260930T120000
DTSTAMP:20260421T043054
CREATED:20260107T221759Z
LAST-MODIFIED:20260109T155714Z
UID:10003022-1790766000-1790769600@lebanonwilsonchamber.com
SUMMARY:Meet the Mayor
DESCRIPTION:This is an open forum designed to give citizens the opportunity to connect with our County Mayor & staff to discuss any concerns or ideas you may have. This event allows you to engage directly with local leadership\, voice your opinions\, and hear about the latest initiatives and developments in our community.
URL:https://lebanonwilsonchamber.com/event/meet-the-mayor-7/2026-09-30/
LOCATION:Lebanon Wilson County Chamber of Commerce\, 149 Public Square\, Lebanon\, TN\, 37087-2751\, United States
CATEGORIES:Chamber Events,Community Events
ATTACH;FMTTYPE=image/png:https://lebanonwilsonchamber.com/wp-content/uploads/2026/01/Meet-the-Mayor-2025.png
ORGANIZER;CN="Lebanon Wilson Chamber of Commerce":MAILTO:marketing@lebanonwilsonchamber.com
GEO:36.2076468;-86.2905132
X-APPLE-STRUCTURED-LOCATION;VALUE=URI;X-ADDRESS=Lebanon Wilson County Chamber of Commerce 149 Public Square Lebanon TN 37087-2751 United States;X-APPLE-RADIUS=500;X-TITLE=149 Public Square:geo:-86.2905132,36.2076468
END:VEVENT
BEGIN:VEVENT
DTSTART;TZID=America/Chicago:20261020T120000
DTEND;TZID=America/Chicago:20261020T130000
DTSTAMP:20260421T043054
CREATED:20230518T222247Z
LAST-MODIFIED:20251204T162811Z
UID:10000348-1792497600-1792501200@lebanonwilsonchamber.com
SUMMARY:Special Events Division Meeting
DESCRIPTION:The Mission of the Lebanon Wilson County Chamber of Commerce Community Special Events Committee is to promote Wilson County and its cities to visitors and travelers and enrich the lives of local citizens.
URL:https://lebanonwilsonchamber.com/event/special-events-division-meeting-8/2026-10-20/
LOCATION:TN
CATEGORIES:Chamber Events
ATTACH;FMTTYPE=image/png:https://lebanonwilsonchamber.com/wp-content/uploads/2025/06/14.png
END:VEVENT
BEGIN:VEVENT
DTSTART;TZID=America/Chicago:20261027T120000
DTEND;TZID=America/Chicago:20261027T130000
DTSTAMP:20260421T043054
CREATED:20260106T145539Z
LAST-MODIFIED:20260106T145539Z
UID:10002988-1793102400-1793106000@lebanonwilsonchamber.com
SUMMARY:Education Division
DESCRIPTION:
URL:https://lebanonwilsonchamber.com/event/education-division-6/2026-10-27/
LOCATION:Lebanon Wilson County Chamber of Commerce\, 149 Public Square\, Lebanon\, TN\, 37087-2751\, United States
CATEGORIES:Chamber Events
ORGANIZER;CN="Lebanon Wilson Chamber of Commerce":MAILTO:marketing@lebanonwilsonchamber.com
GEO:36.2076468;-86.2905132
X-APPLE-STRUCTURED-LOCATION;VALUE=URI;X-ADDRESS=Lebanon Wilson County Chamber of Commerce 149 Public Square Lebanon TN 37087-2751 United States;X-APPLE-RADIUS=500;X-TITLE=149 Public Square:geo:-86.2905132,36.2076468
END:VEVENT
BEGIN:VEVENT
DTSTART;TZID=America/Chicago:20261028T110000
DTEND;TZID=America/Chicago:20261028T120000
DTSTAMP:20260421T043054
CREATED:20260107T221759Z
LAST-MODIFIED:20260109T155714Z
UID:10003023-1793185200-1793188800@lebanonwilsonchamber.com
SUMMARY:Meet the Mayor
DESCRIPTION:This is an open forum designed to give citizens the opportunity to connect with our County Mayor & staff to discuss any concerns or ideas you may have. This event allows you to engage directly with local leadership\, voice your opinions\, and hear about the latest initiatives and developments in our community.
URL:https://lebanonwilsonchamber.com/event/meet-the-mayor-7/2026-10-28/
LOCATION:Lebanon Wilson County Chamber of Commerce\, 149 Public Square\, Lebanon\, TN\, 37087-2751\, United States
CATEGORIES:Chamber Events,Community Events
ATTACH;FMTTYPE=image/png:https://lebanonwilsonchamber.com/wp-content/uploads/2026/01/Meet-the-Mayor-2025.png
ORGANIZER;CN="Lebanon Wilson Chamber of Commerce":MAILTO:marketing@lebanonwilsonchamber.com
GEO:36.2076468;-86.2905132
X-APPLE-STRUCTURED-LOCATION;VALUE=URI;X-ADDRESS=Lebanon Wilson County Chamber of Commerce 149 Public Square Lebanon TN 37087-2751 United States;X-APPLE-RADIUS=500;X-TITLE=149 Public Square:geo:-86.2905132,36.2076468
END:VEVENT
BEGIN:VEVENT
DTSTART;TZID=America/Chicago:20261117T120000
DTEND;TZID=America/Chicago:20261117T130000
DTSTAMP:20260421T043054
CREATED:20230518T222247Z
LAST-MODIFIED:20251204T162811Z
UID:10000349-1794916800-1794920400@lebanonwilsonchamber.com
SUMMARY:Special Events Division Meeting
DESCRIPTION:The Mission of the Lebanon Wilson County Chamber of Commerce Community Special Events Committee is to promote Wilson County and its cities to visitors and travelers and enrich the lives of local citizens.
URL:https://lebanonwilsonchamber.com/event/special-events-division-meeting-8/2026-11-17/
LOCATION:TN
CATEGORIES:Chamber Events
ATTACH;FMTTYPE=image/png:https://lebanonwilsonchamber.com/wp-content/uploads/2025/06/14.png
END:VEVENT
BEGIN:VEVENT
DTSTART;TZID=America/Chicago:20261124T120000
DTEND;TZID=America/Chicago:20261124T130000
DTSTAMP:20260421T043054
CREATED:20260106T145539Z
LAST-MODIFIED:20260106T145539Z
UID:10002989-1795521600-1795525200@lebanonwilsonchamber.com
SUMMARY:Education Division
DESCRIPTION:
URL:https://lebanonwilsonchamber.com/event/education-division-6/2026-11-24/
LOCATION:Lebanon Wilson County Chamber of Commerce\, 149 Public Square\, Lebanon\, TN\, 37087-2751\, United States
CATEGORIES:Chamber Events
ORGANIZER;CN="Lebanon Wilson Chamber of Commerce":MAILTO:marketing@lebanonwilsonchamber.com
GEO:36.2076468;-86.2905132
X-APPLE-STRUCTURED-LOCATION;VALUE=URI;X-ADDRESS=Lebanon Wilson County Chamber of Commerce 149 Public Square Lebanon TN 37087-2751 United States;X-APPLE-RADIUS=500;X-TITLE=149 Public Square:geo:-86.2905132,36.2076468
END:VEVENT
BEGIN:VEVENT
DTSTART;TZID=America/Chicago:20261125T110000
DTEND;TZID=America/Chicago:20261125T120000
DTSTAMP:20260421T043054
CREATED:20260107T221759Z
LAST-MODIFIED:20260109T155714Z
UID:10003024-1795604400-1795608000@lebanonwilsonchamber.com
SUMMARY:Meet the Mayor
DESCRIPTION:This is an open forum designed to give citizens the opportunity to connect with our County Mayor & staff to discuss any concerns or ideas you may have. This event allows you to engage directly with local leadership\, voice your opinions\, and hear about the latest initiatives and developments in our community.
URL:https://lebanonwilsonchamber.com/event/meet-the-mayor-7/2026-11-25/
LOCATION:Lebanon Wilson County Chamber of Commerce\, 149 Public Square\, Lebanon\, TN\, 37087-2751\, United States
CATEGORIES:Chamber Events,Community Events
ATTACH;FMTTYPE=image/png:https://lebanonwilsonchamber.com/wp-content/uploads/2026/01/Meet-the-Mayor-2025.png
ORGANIZER;CN="Lebanon Wilson Chamber of Commerce":MAILTO:marketing@lebanonwilsonchamber.com
GEO:36.2076468;-86.2905132
X-APPLE-STRUCTURED-LOCATION;VALUE=URI;X-ADDRESS=Lebanon Wilson County Chamber of Commerce 149 Public Square Lebanon TN 37087-2751 United States;X-APPLE-RADIUS=500;X-TITLE=149 Public Square:geo:-86.2905132,36.2076468
END:VEVENT
BEGIN:VEVENT
DTSTART;TZID=America/Chicago:20261206T140000
DTEND;TZID=America/Chicago:20261206T153000
DTSTAMP:20260421T043054
CREATED:20260202T223555Z
LAST-MODIFIED:20260202T223555Z
UID:10003051-1796565600-1796571000@lebanonwilsonchamber.com
SUMMARY:Lebanon's Christmas Parade 2026
DESCRIPTION:Mark your calendars for Sunday\, December 6\, and get ready to celebrate the holiday season at Lebanon’s 2026 Christmas Parade! \nMore information coming soon. To explore sponsorship opportunities\, please contact andrea@lebanonwilsonchamber.com
URL:https://lebanonwilsonchamber.com/event/lebanons-christmas-parade-2026/
LOCATION:TN
CATEGORIES:Business Events,Chamber Events,Community Events
ORGANIZER;CN="Lebanon Wilson Chamber of Commerce":MAILTO:marketing@lebanonwilsonchamber.com
END:VEVENT
BEGIN:VEVENT
DTSTART;TZID=America/Chicago:20261212T100000
DTEND;TZID=America/Chicago:20261212T160000
DTSTAMP:20260421T043054
CREATED:20260202T224706Z
LAST-MODIFIED:20260209T213940Z
UID:10003052-1797069600-1797091200@lebanonwilsonchamber.com
SUMMARY:Christmas on the Square 2026
DESCRIPTION:Kick off the holiday season with us at Christmas on the Square — a festive community celebration in the heart of Downtown Lebanon! Enjoy a day filled with local vendors\, food trucks\, children’s activities\, a tree decorating contest\, an outdoor dance floor\, and so much more. It’s a magical event for the entire family\, with fun\, shopping\, and holiday cheer around every corner. \nChristmas on the Square in Lebanon\, TN is an annual community event hosted by the City of Lebanon\, Downtown Merchants & the Lebanon Wilson County Chamber of Commerce Special Events Division. Don’t miss the holiday magic of Christmas on the Square while supporting our local businesses! \nFor more information regarding vendor registration & sponsorships\,  please visit: https://lebanonwilsonchamber.com/lebanon-christmas-on-the-square/
URL:https://lebanonwilsonchamber.com/event/christmas-on-the-square-2026/
LOCATION:Lebanon Wilson County Chamber of Commerce\, 149 Public Square\, Lebanon\, TN\, 37087-2751\, United States
CATEGORIES:Business Events,Chamber Events,Community Events
ATTACH;FMTTYPE=image/png:https://lebanonwilsonchamber.com/wp-content/uploads/2026/02/Christmas-on-the-Square-12.png
ORGANIZER;CN="Lebanon Wilson Chamber of Commerce":MAILTO:marketing@lebanonwilsonchamber.com
GEO:36.2076468;-86.2905132
X-APPLE-STRUCTURED-LOCATION;VALUE=URI;X-ADDRESS=Lebanon Wilson County Chamber of Commerce 149 Public Square Lebanon TN 37087-2751 United States;X-APPLE-RADIUS=500;X-TITLE=149 Public Square:geo:-86.2905132,36.2076468
END:VEVENT
BEGIN:VEVENT
DTSTART;TZID=America/Chicago:20261215T120000
DTEND;TZID=America/Chicago:20261215T130000
DTSTAMP:20260421T043054
CREATED:20230518T222247Z
LAST-MODIFIED:20251204T162811Z
UID:10000350-1797336000-1797339600@lebanonwilsonchamber.com
SUMMARY:Special Events Division Meeting
DESCRIPTION:The Mission of the Lebanon Wilson County Chamber of Commerce Community Special Events Committee is to promote Wilson County and its cities to visitors and travelers and enrich the lives of local citizens.
URL:https://lebanonwilsonchamber.com/event/special-events-division-meeting-8/2026-12-15/
LOCATION:TN
CATEGORIES:Chamber Events
ATTACH;FMTTYPE=image/png:https://lebanonwilsonchamber.com/wp-content/uploads/2025/06/14.png
END:VEVENT
BEGIN:VEVENT
DTSTART;TZID=America/Chicago:20261222T120000
DTEND;TZID=America/Chicago:20261222T130000
DTSTAMP:20260421T043054
CREATED:20260106T145539Z
LAST-MODIFIED:20260106T145539Z
UID:10002990-1797940800-1797944400@lebanonwilsonchamber.com
SUMMARY:Education Division
DESCRIPTION:
URL:https://lebanonwilsonchamber.com/event/education-division-6/2026-12-22/
LOCATION:Lebanon Wilson County Chamber of Commerce\, 149 Public Square\, Lebanon\, TN\, 37087-2751\, United States
CATEGORIES:Chamber Events
ORGANIZER;CN="Lebanon Wilson Chamber of Commerce":MAILTO:marketing@lebanonwilsonchamber.com
GEO:36.2076468;-86.2905132
X-APPLE-STRUCTURED-LOCATION;VALUE=URI;X-ADDRESS=Lebanon Wilson County Chamber of Commerce 149 Public Square Lebanon TN 37087-2751 United States;X-APPLE-RADIUS=500;X-TITLE=149 Public Square:geo:-86.2905132,36.2076468
END:VEVENT
BEGIN:VEVENT
DTSTART;TZID=America/Chicago:20270119T120000
DTEND;TZID=America/Chicago:20270119T130000
DTSTAMP:20260421T043054
CREATED:20230518T222247Z
LAST-MODIFIED:20251204T162811Z
UID:10000351-1800360000-1800363600@lebanonwilsonchamber.com
SUMMARY:Special Events Division Meeting
DESCRIPTION:The Mission of the Lebanon Wilson County Chamber of Commerce Community Special Events Committee is to promote Wilson County and its cities to visitors and travelers and enrich the lives of local citizens.
URL:https://lebanonwilsonchamber.com/event/special-events-division-meeting-8/2027-01-19/
LOCATION:TN
CATEGORIES:Chamber Events
ATTACH;FMTTYPE=image/png:https://lebanonwilsonchamber.com/wp-content/uploads/2025/06/14.png
END:VEVENT
BEGIN:VEVENT
DTSTART;TZID=America/Chicago:20270126T120000
DTEND;TZID=America/Chicago:20270126T130000
DTSTAMP:20260421T043054
CREATED:20260106T145539Z
LAST-MODIFIED:20260106T145539Z
UID:10003080-1800964800-1800968400@lebanonwilsonchamber.com
SUMMARY:Education Division
DESCRIPTION:
URL:https://lebanonwilsonchamber.com/event/education-division-6/2027-01-26/
LOCATION:Lebanon Wilson County Chamber of Commerce\, 149 Public Square\, Lebanon\, TN\, 37087-2751\, United States
CATEGORIES:Chamber Events
ORGANIZER;CN="Lebanon Wilson Chamber of Commerce":MAILTO:marketing@lebanonwilsonchamber.com
GEO:36.2076468;-86.2905132
X-APPLE-STRUCTURED-LOCATION;VALUE=URI;X-ADDRESS=Lebanon Wilson County Chamber of Commerce 149 Public Square Lebanon TN 37087-2751 United States;X-APPLE-RADIUS=500;X-TITLE=149 Public Square:geo:-86.2905132,36.2076468
END:VEVENT
BEGIN:VEVENT
DTSTART;TZID=America/Chicago:20270216T120000
DTEND;TZID=America/Chicago:20270216T130000
DTSTAMP:20260421T043054
CREATED:20230518T222247Z
LAST-MODIFIED:20251204T162811Z
UID:10000352-1802779200-1802782800@lebanonwilsonchamber.com
SUMMARY:Special Events Division Meeting
DESCRIPTION:The Mission of the Lebanon Wilson County Chamber of Commerce Community Special Events Committee is to promote Wilson County and its cities to visitors and travelers and enrich the lives of local citizens.
URL:https://lebanonwilsonchamber.com/event/special-events-division-meeting-8/2027-02-16/
LOCATION:TN
CATEGORIES:Chamber Events
ATTACH;FMTTYPE=image/png:https://lebanonwilsonchamber.com/wp-content/uploads/2025/06/14.png
END:VEVENT
BEGIN:VEVENT
DTSTART;TZID=America/Chicago:20270316T120000
DTEND;TZID=America/Chicago:20270316T130000
DTSTAMP:20260421T043054
CREATED:20230518T222247Z
LAST-MODIFIED:20251204T162811Z
UID:10000353-1805198400-1805202000@lebanonwilsonchamber.com
SUMMARY:Special Events Division Meeting
DESCRIPTION:The Mission of the Lebanon Wilson County Chamber of Commerce Community Special Events Committee is to promote Wilson County and its cities to visitors and travelers and enrich the lives of local citizens.
URL:https://lebanonwilsonchamber.com/event/special-events-division-meeting-8/2027-03-16/
LOCATION:TN
CATEGORIES:Chamber Events
ATTACH;FMTTYPE=image/png:https://lebanonwilsonchamber.com/wp-content/uploads/2025/06/14.png
END:VEVENT
BEGIN:VEVENT
DTSTART;TZID=America/Chicago:20270420T120000
DTEND;TZID=America/Chicago:20270420T130000
DTSTAMP:20260421T043054
CREATED:20230518T222247Z
LAST-MODIFIED:20251204T162811Z
UID:10000354-1808222400-1808226000@lebanonwilsonchamber.com
SUMMARY:Special Events Division Meeting
DESCRIPTION:The Mission of the Lebanon Wilson County Chamber of Commerce Community Special Events Committee is to promote Wilson County and its cities to visitors and travelers and enrich the lives of local citizens.
URL:https://lebanonwilsonchamber.com/event/special-events-division-meeting-8/2027-04-20/
LOCATION:TN
CATEGORIES:Chamber Events
ATTACH;FMTTYPE=image/png:https://lebanonwilsonchamber.com/wp-content/uploads/2025/06/14.png
END:VEVENT
BEGIN:VEVENT
DTSTART;TZID=America/Chicago:20270518T120000
DTEND;TZID=America/Chicago:20270518T130000
DTSTAMP:20260421T043054
CREATED:20230518T222247Z
LAST-MODIFIED:20251204T162811Z
UID:10000355-1810641600-1810645200@lebanonwilsonchamber.com
SUMMARY:Special Events Division Meeting
DESCRIPTION:The Mission of the Lebanon Wilson County Chamber of Commerce Community Special Events Committee is to promote Wilson County and its cities to visitors and travelers and enrich the lives of local citizens.
URL:https://lebanonwilsonchamber.com/event/special-events-division-meeting-8/2027-05-18/
LOCATION:TN
CATEGORIES:Chamber Events
ATTACH;FMTTYPE=image/png:https://lebanonwilsonchamber.com/wp-content/uploads/2025/06/14.png
END:VEVENT
BEGIN:VEVENT
DTSTART;TZID=America/Chicago:20270615T120000
DTEND;TZID=America/Chicago:20270615T130000
DTSTAMP:20260421T043054
CREATED:20230518T222247Z
LAST-MODIFIED:20251204T162811Z
UID:10000356-1813060800-1813064400@lebanonwilsonchamber.com
SUMMARY:Special Events Division Meeting
DESCRIPTION:The Mission of the Lebanon Wilson County Chamber of Commerce Community Special Events Committee is to promote Wilson County and its cities to visitors and travelers and enrich the lives of local citizens.
URL:https://lebanonwilsonchamber.com/event/special-events-division-meeting-8/2027-06-15/
LOCATION:TN
CATEGORIES:Chamber Events
ATTACH;FMTTYPE=image/png:https://lebanonwilsonchamber.com/wp-content/uploads/2025/06/14.png
END:VEVENT
BEGIN:VEVENT
DTSTART;TZID=America/Chicago:20270720T120000
DTEND;TZID=America/Chicago:20270720T130000
DTSTAMP:20260421T043054
CREATED:20230518T222247Z
LAST-MODIFIED:20251204T162811Z
UID:10000357-1816084800-1816088400@lebanonwilsonchamber.com
SUMMARY:Special Events Division Meeting
DESCRIPTION:The Mission of the Lebanon Wilson County Chamber of Commerce Community Special Events Committee is to promote Wilson County and its cities to visitors and travelers and enrich the lives of local citizens.
URL:https://lebanonwilsonchamber.com/event/special-events-division-meeting-8/2027-07-20/
LOCATION:TN
CATEGORIES:Chamber Events
ATTACH;FMTTYPE=image/png:https://lebanonwilsonchamber.com/wp-content/uploads/2025/06/14.png
END:VEVENT
BEGIN:VEVENT
DTSTART;TZID=America/Chicago:20270817T120000
DTEND;TZID=America/Chicago:20270817T130000
DTSTAMP:20260421T043054
CREATED:20230518T222247Z
LAST-MODIFIED:20251204T162811Z
UID:10000358-1818504000-1818507600@lebanonwilsonchamber.com
SUMMARY:Special Events Division Meeting
DESCRIPTION:The Mission of the Lebanon Wilson County Chamber of Commerce Community Special Events Committee is to promote Wilson County and its cities to visitors and travelers and enrich the lives of local citizens.
URL:https://lebanonwilsonchamber.com/event/special-events-division-meeting-8/2027-08-17/
LOCATION:TN
CATEGORIES:Chamber Events
ATTACH;FMTTYPE=image/png:https://lebanonwilsonchamber.com/wp-content/uploads/2025/06/14.png
END:VEVENT
BEGIN:VEVENT
DTSTART;TZID=America/Chicago:20270921T120000
DTEND;TZID=America/Chicago:20270921T130000
DTSTAMP:20260421T043054
CREATED:20230518T222247Z
LAST-MODIFIED:20251204T162811Z
UID:10000359-1821528000-1821531600@lebanonwilsonchamber.com
SUMMARY:Special Events Division Meeting
DESCRIPTION:The Mission of the Lebanon Wilson County Chamber of Commerce Community Special Events Committee is to promote Wilson County and its cities to visitors and travelers and enrich the lives of local citizens.
URL:https://lebanonwilsonchamber.com/event/special-events-division-meeting-8/2027-09-21/
LOCATION:TN
CATEGORIES:Chamber Events
ATTACH;FMTTYPE=image/png:https://lebanonwilsonchamber.com/wp-content/uploads/2025/06/14.png
END:VEVENT
BEGIN:VEVENT
DTSTART;TZID=America/Chicago:20271019T120000
DTEND;TZID=America/Chicago:20271019T130000
DTSTAMP:20260421T043054
CREATED:20230518T222247Z
LAST-MODIFIED:20251204T162811Z
UID:10000360-1823947200-1823950800@lebanonwilsonchamber.com
SUMMARY:Special Events Division Meeting
DESCRIPTION:The Mission of the Lebanon Wilson County Chamber of Commerce Community Special Events Committee is to promote Wilson County and its cities to visitors and travelers and enrich the lives of local citizens.
URL:https://lebanonwilsonchamber.com/event/special-events-division-meeting-8/2027-10-19/
LOCATION:TN
CATEGORIES:Chamber Events
ATTACH;FMTTYPE=image/png:https://lebanonwilsonchamber.com/wp-content/uploads/2025/06/14.png
END:VEVENT
BEGIN:VEVENT
DTSTART;TZID=America/Chicago:20271116T120000
DTEND;TZID=America/Chicago:20271116T130000
DTSTAMP:20260421T043054
CREATED:20230518T222247Z
LAST-MODIFIED:20251204T162811Z
UID:10000361-1826366400-1826370000@lebanonwilsonchamber.com
SUMMARY:Special Events Division Meeting
DESCRIPTION:The Mission of the Lebanon Wilson County Chamber of Commerce Community Special Events Committee is to promote Wilson County and its cities to visitors and travelers and enrich the lives of local citizens.
URL:https://lebanonwilsonchamber.com/event/special-events-division-meeting-8/2027-11-16/
LOCATION:TN
CATEGORIES:Chamber Events
ATTACH;FMTTYPE=image/png:https://lebanonwilsonchamber.com/wp-content/uploads/2025/06/14.png
END:VEVENT
BEGIN:VEVENT
DTSTART;TZID=America/Chicago:20271221T120000
DTEND;TZID=America/Chicago:20271221T130000
DTSTAMP:20260421T043054
CREATED:20230518T222247Z
LAST-MODIFIED:20251204T162811Z
UID:10000362-1829390400-1829394000@lebanonwilsonchamber.com
SUMMARY:Special Events Division Meeting
DESCRIPTION:The Mission of the Lebanon Wilson County Chamber of Commerce Community Special Events Committee is to promote Wilson County and its cities to visitors and travelers and enrich the lives of local citizens.
URL:https://lebanonwilsonchamber.com/event/special-events-division-meeting-8/2027-12-21/
LOCATION:TN
CATEGORIES:Chamber Events
ATTACH;FMTTYPE=image/png:https://lebanonwilsonchamber.com/wp-content/uploads/2025/06/14.png
END:VEVENT
BEGIN:VEVENT
DTSTART;TZID=America/Chicago:20280118T120000
DTEND;TZID=America/Chicago:20280118T130000
DTSTAMP:20260421T043054
CREATED:20230518T222247Z
LAST-MODIFIED:20251204T162811Z
UID:10000363-1831809600-1831813200@lebanonwilsonchamber.com
SUMMARY:Special Events Division Meeting
DESCRIPTION:The Mission of the Lebanon Wilson County Chamber of Commerce Community Special Events Committee is to promote Wilson County and its cities to visitors and travelers and enrich the lives of local citizens.
URL:https://lebanonwilsonchamber.com/event/special-events-division-meeting-8/2028-01-18/
LOCATION:TN
CATEGORIES:Chamber Events
ATTACH;FMTTYPE=image/png:https://lebanonwilsonchamber.com/wp-content/uploads/2025/06/14.png
END:VEVENT
BEGIN:VEVENT
DTSTART;TZID=America/Chicago:20280215T120000
DTEND;TZID=America/Chicago:20280215T130000
DTSTAMP:20260421T043054
CREATED:20230518T222247Z
LAST-MODIFIED:20251204T162811Z
UID:10000364-1834228800-1834232400@lebanonwilsonchamber.com
SUMMARY:Special Events Division Meeting
DESCRIPTION:The Mission of the Lebanon Wilson County Chamber of Commerce Community Special Events Committee is to promote Wilson County and its cities to visitors and travelers and enrich the lives of local citizens.
URL:https://lebanonwilsonchamber.com/event/special-events-division-meeting-8/2028-02-15/
LOCATION:TN
CATEGORIES:Chamber Events
ATTACH;FMTTYPE=image/png:https://lebanonwilsonchamber.com/wp-content/uploads/2025/06/14.png
END:VEVENT
BEGIN:VEVENT
DTSTART;TZID=America/Chicago:20280321T120000
DTEND;TZID=America/Chicago:20280321T130000
DTSTAMP:20260421T043054
CREATED:20230518T222247Z
LAST-MODIFIED:20251204T162811Z
UID:10000365-1837252800-1837256400@lebanonwilsonchamber.com
SUMMARY:Special Events Division Meeting
DESCRIPTION:The Mission of the Lebanon Wilson County Chamber of Commerce Community Special Events Committee is to promote Wilson County and its cities to visitors and travelers and enrich the lives of local citizens.
URL:https://lebanonwilsonchamber.com/event/special-events-division-meeting-8/2028-03-21/
LOCATION:TN
CATEGORIES:Chamber Events
ATTACH;FMTTYPE=image/png:https://lebanonwilsonchamber.com/wp-content/uploads/2025/06/14.png
END:VEVENT
BEGIN:VEVENT
DTSTART;TZID=America/Chicago:20280418T120000
DTEND;TZID=America/Chicago:20280418T130000
DTSTAMP:20260421T043054
CREATED:20230518T222247Z
LAST-MODIFIED:20251204T162811Z
UID:10000366-1839672000-1839675600@lebanonwilsonchamber.com
SUMMARY:Special Events Division Meeting
DESCRIPTION:The Mission of the Lebanon Wilson County Chamber of Commerce Community Special Events Committee is to promote Wilson County and its cities to visitors and travelers and enrich the lives of local citizens.
URL:https://lebanonwilsonchamber.com/event/special-events-division-meeting-8/2028-04-18/
LOCATION:TN
CATEGORIES:Chamber Events
ATTACH;FMTTYPE=image/png:https://lebanonwilsonchamber.com/wp-content/uploads/2025/06/14.png
END:VEVENT
BEGIN:VEVENT
DTSTART;TZID=America/Chicago:20280516T120000
DTEND;TZID=America/Chicago:20280516T130000
DTSTAMP:20260421T043054
CREATED:20230518T222247Z
LAST-MODIFIED:20251204T162811Z
UID:10000367-1842091200-1842094800@lebanonwilsonchamber.com
SUMMARY:Special Events Division Meeting
DESCRIPTION:The Mission of the Lebanon Wilson County Chamber of Commerce Community Special Events Committee is to promote Wilson County and its cities to visitors and travelers and enrich the lives of local citizens.
URL:https://lebanonwilsonchamber.com/event/special-events-division-meeting-8/2028-05-16/
LOCATION:TN
CATEGORIES:Chamber Events
ATTACH;FMTTYPE=image/png:https://lebanonwilsonchamber.com/wp-content/uploads/2025/06/14.png
END:VEVENT
BEGIN:VEVENT
DTSTART;TZID=America/Chicago:20280620T120000
DTEND;TZID=America/Chicago:20280620T130000
DTSTAMP:20260421T043054
CREATED:20230518T222247Z
LAST-MODIFIED:20251204T162811Z
UID:10000368-1845115200-1845118800@lebanonwilsonchamber.com
SUMMARY:Special Events Division Meeting
DESCRIPTION:The Mission of the Lebanon Wilson County Chamber of Commerce Community Special Events Committee is to promote Wilson County and its cities to visitors and travelers and enrich the lives of local citizens.
URL:https://lebanonwilsonchamber.com/event/special-events-division-meeting-8/2028-06-20/
LOCATION:TN
CATEGORIES:Chamber Events
ATTACH;FMTTYPE=image/png:https://lebanonwilsonchamber.com/wp-content/uploads/2025/06/14.png
END:VEVENT
END:VCALENDAR